BEGIN:VCALENDAR
VERSION:2.0
PRODID:-//ChamberMaster//Event Calendar 2.0//EN
METHOD:PUBLISH
X-PUBLISHED-TTL:P3D
REFRESH-INTERVAL:P3D
CALSCALE:GREGORIAN
BEGIN:VEVENT
DTSTART:20221007T000000Z
DTEND:20221007T020000Z
X-MICROSOFT-CDO-ALLDAYEVENT:FALSE
SUMMARY:2022 Town Council Candidate Forum
DESCRIPTION:Join us as we question the 2022 candidates for Parker Town Council on issues relevant to the local business community. The regular election for the Town Council will be held on Tuesday\, Nov. 8\, 2022.  \n\n\n\nThe Town of Parker will hold the regular election in connection with the Douglas County coordinated election on November 8\, 2022.  The Town Council election will be held to elect three (3) council members to 4-year terms. A list of the five candidates and some of their candidate biographies are available HERE.\n\n\n\nThis event is open to the public.  You can also watch live online at the chamber's YouTube channel. Link will be provided on the chamber's website at parkerchamber.com the day of the event. A recording will be available on YouTube after the event.\n\n\n\nThis event is sponsored by the Government Affairs Committee (GAC) of the Parker Chamber of Commerce.\n\n\n\nThanks to our supporting sponsors Lightsail Video and Nelson Designs.
X-ALT-DESC;FMTTYPE=text/html:<span style="font-size:16px\;">Join us as we question the 2022 candidates for Parker Town Council on issues relevant to the local business community.&nbsp\;<span style="color: rgb(34\, 34\, 34)\; font-family: Poppins\;">The regular election for the Town Council will be held on Tuesday\, Nov. 8\, 2022. &nbsp\;<br />\n<br />\nThe Town of Parker will hold the regular election in connection with the Douglas County coordinated election on November 8\, 2022. &nbsp\;The Town Council election will be held to elect three (3) council members to 4-year terms. A list of the five candidates and some of their candidate biographies are available <a href="https://www.parkeronline.org/2021/2022-Regular-Election"><strong>HERE</strong></a>.</span><br />\n<br />\nThis event is open to the public.&nbsp\; You can also watch live online at the chamber&#39\;s YouTube channel. Link will be provided on the chamber&#39\;s website at parkerchamber.com the day of the event. A recording will be available on YouTube after the event.<br />\n<br />\nThis event is sponsored by the <strong>Government Affairs Committee (GAC) </strong>of the Parker Chamber of Commerce.<br />\n<br />\nThanks to our supporting sponsors <a href="https://lightsailvideo.com/">Lightsail Video</a> and <a href="https://nelsonsdesign.com/">Nelson Designs</a>.</span>
LOCATION:PACE Center Event Room 20000 Pikes Peak Avenue Parker\, CO 80138
UID:e.2085.5520
SEQUENCE:3
DTSTAMP:20260420T012639Z
URL:https://business.parkerchamber.com/events/details/2022-town-council-candidate-forum-5520
END:VEVENT

END:VCALENDAR
