BEGIN:VCALENDAR
VERSION:2.0
PRODID:-//ChamberMaster//Event Calendar 2.0//EN
METHOD:PUBLISH
X-PUBLISHED-TTL:P3D
REFRESH-INTERVAL:P3D
CALSCALE:GREGORIAN
BEGIN:VEVENT
DTSTART:20260319T220000Z
DTEND:20260319T230000Z
X-MICROSOFT-CDO-ALLDAYEVENT:FALSE
SUMMARY:Ribbon Cutting - PORT OF SUBS
DESCRIPTION:Celebrating Port of Subs Grand Opening with a Ribbon Cutting.\n\n\n\nSince 1972\, Port of Subs serves quality product through superior service by friendly\, qualified people in a clean\, appealing atmosphere. This is our unit mission statement\, and we will continue to uphold these core values for years to come.
X-ALT-DESC;FMTTYPE=text/html:<p class="_04xlpA direction-ltr align-center para-style-body" style="line-height: 1.4\;"><strong><font color="#000000" face="times new roman"><span style="caret-color: rgb(0\, 0\, 0)\; font-size: 22px\;">Celebrating Port of Subs Grand Opening with a Ribbon Cutting.</span></font><br />\n<br />\n<span style="color:#0000FF\;"><span style="caret-color: rgb(255\, 255\, 255)\; font-family: Poppins\, Helvetica\, Arial\, Lucida\, sans-serif\; font-size: 21px\; text-align: center\;">Since 1972\, Port of Subs serves quality product through superior service by friendly\, qualified people in a clean\, appealing atmosphere. This is our unit mission statement\, and we will continue to uphold these core values for years to come.</span></span></strong><br />\n&nbsp\;</p>\n\n<p class="_04xlpA direction-ltr align-center para-style-body" style="line-height: 1.4\;"><br />\n<strong><font face="YAD7Q9NigKI 0\, _fb_\, auto">&nbsp\; &nbsp\; &nbsp\; &nbsp\; &nbsp\; &nbsp\; &nbsp\; &nbsp\; &nbsp\; &nbsp\; &nbsp\; &nbsp\; &nbsp\; &nbsp\; &nbsp\; &nbsp\; &nbsp\; &nbsp\; &nbsp\; &nbsp\; &nbsp\; &nbsp\; &nbsp\; &nbsp\; &nbsp\; &nbsp\; &nbsp\; &nbsp\; &nbsp\; &nbsp\; &nbsp\; &nbsp\;</font></strong></p>\n\n<div>&nbsp\;</div>\n
LOCATION:
UID:e.2085.9025
SEQUENCE:3
DTSTAMP:20260421T185523Z
URL:https://business.parkerchamber.com/events/details/ribbon-cutting-port-of-subs-9025
END:VEVENT

END:VCALENDAR
