BEGIN:VCALENDAR
VERSION:2.0
PRODID:-//ChamberMaster//Event Calendar 2.0//EN
METHOD:PUBLISH
X-PUBLISHED-TTL:P3D
REFRESH-INTERVAL:P3D
CALSCALE:GREGORIAN
BEGIN:VEVENT
DTSTART:20210625T223000Z
DTEND:20210626T013000Z
X-MICROSOFT-CDO-ALLDAYEVENT:FALSE
SUMMARY:Wine Walk June 25\, 2021
DESCRIPTION:WINE WALKS ARE HERE!\n\nTICKETS STILL AVAILABLE FOR TONIGHT - BUY AT THE DOOR 4:30 PM\n\n\n\nDowntown Parker Wine Walks will take place June through September this year. Purchase a souvenir wine glass for $20 online or $25 at the door and enjoy wine samples provided by participating Parker Chamber merchants. Learn more about their business  while sipping and shopping and exploring Downtown Parker.\n\n\n\nWhether you are new to the area or just want a fun night out\, this is the event for you! \n\n\nTickets are $20 online and $25 at the door. You MUST be 21 years of age or older to participate.\n\n\n\nTICKETS ARE NON REFUNDABLE
X-ALT-DESC;FMTTYPE=text/html:<span style="font-size: 16px\;"><span style="color:#660033\;"><span style="font-size:26px\;"><span style="font-family:verdana\;"><strong>WINE WALKS ARE HERE!<br />\nTICKETS STILL AVAILABLE FOR TONIGHT - BUY AT THE DOOR 4:30 PM</strong></span></span></span><br />\n<br />\n<span style="color: rgb(102\, 102\, 102)\; font-family: Arial\, Helvetica\, sans-serif\;">Downtown Parker Wine Walks will take place June through September this year. Purchase a souvenir wine glass for $20 online or $25 at the door and enjoy wine samples provided by participating Parker Chamber merchants. Learn more about their business &nbsp\;while sipping and shopping and exploring Downtown Parker.</span><br />\n<br />\n<span style="color:#660033\;"><span style="font-size:20px\;"><span style="font-family: Arial\, Helvetica\, sans-serif\;"><strong>Whether you are new to the area or just want a fun night out\, this is the event for you!&nbsp\;</strong></span></span></span></span>\n<div><br style="background-image: initial\; background-position: initial\; background-size: initial\; background-repeat: initial\; background-attachment: initial\; background-origin: initial\; background-clip: initial\; margin: 0px\; padding: 0px\; border-radius: 0px\; border: currentcolor\; left: auto\; top: auto\; width: auto\; height: auto\; right: auto\; bottom: auto\; color: rgb(102\, 102\, 102)\; line-height: inherit\; overflow: visible\; clear: none\; font-family: Arial\, Helvetica\, sans-serif\; font-size: 12px\; vertical-align: baseline\; float: none\; display: inline\; visibility: inherit\; border-collapse: separate\; position: static\; z-index: auto\; table-layout: auto\; direction: inherit\; max-height: none\; max-width: none\; content: normal\; box-sizing: content-box\; empty-cells: show\; font-stretch: inherit\; opacity: 1\; resize: none\; font-variant-numeric: inherit\; font-variant-east-asian: inherit\; outline-offset: 0px\;" />\n<span style="font-size: 16px\;"><span style="color: rgb(102\, 102\, 102)\; font-family: Arial\, Helvetica\, sans-serif\;">Tickets are $20 online and $25 at the door. You MUST be 21 years of age or older to participate.</span><br />\n<br />\n<span style="font-size:36px\;"><span style="color:#660033\;"><span style="font-family: Arial\, Helvetica\, sans-serif\;"><strong>TICKETS ARE NON REFUNDABLE</strong></span></span></span></span><br />\n&nbsp\;</div>\n\n<div><br />\n<br />\n<br />\n&nbsp\;</div>\n
LOCATION:Downtown Parker\, CO
UID:e.2085.5110
SEQUENCE:3
DTSTAMP:20260426T040141Z
URL:https://business.parkerchamber.com/events/details/wine-walk-june-25-2021-5110
END:VEVENT

END:VCALENDAR
