BEGIN:VCALENDAR
VERSION:2.0
PRODID:-//ChamberMaster//Event Calendar 2.0//EN
METHOD:PUBLISH
X-PUBLISHED-TTL:P3D
REFRESH-INTERVAL:P3D
CALSCALE:GREGORIAN
BEGIN:VEVENT
DTSTART:20230517T143000Z
DTEND:20230517T160000Z
X-MICROSOFT-CDO-ALLDAYEVENT:FALSE
SUMMARY:WOMEN'S FORUM - Alzheimers Association
DESCRIPTION:Alzheimers Association\n\n	\n		\n			\n			In COUNTRY Financial\n			10851 S. Crossroads Dr. Suite C7\n\n			Parker\, CO 80134\n		\n	\n\n\n\n\n\nThis monthly networking event is for women of the Parker Chamber of Commerce to learn about and support each other's businesses.  Attendees are encouraged to bring business cards and marketing brochures. You are welcome to bring an item for the raffle drawing at the end of the event.
X-ALT-DESC;FMTTYPE=text/html:<span style="color:#4B0082\;"><strong><font face="comic sans ms"><span style="font-size: 24px\;">Alzheimers Association</span></font></strong></span>\n<table border="0" cellpadding="0" cellspacing="0" class="txtNormal" style="border-collapse: collapse\; border: 0px\; font-family: Roboto\, sans-serif\;" width="100%">\n	<tbody style="border-color: rgb(133\, 133\, 133)\;">\n		<tr>\n			<td>\n			<div class="txtHeading" style="font-size: 16px\; line-height: 1.5\;"><span style="font-size:16px\;"><span style="color:#800000\;">In COUNTRY Financial</span></span></div>\n			<span style="font-size:16px\;"><span style="color:#800000\;">10851 S. Crossroads Dr.&nbsp\;Suite C7<br />\n			Parker\, CO 80134</span></span></td>\n		</tr>\n	</tbody>\n</table>\n<br />\n<br />\n<strong><span style="font-size: 18px\; font-style: italic\; font-family: arial\;">This&nbsp\;monthly networking event is for women of the Parker Chamber of Commerce to learn about and support each other&#39\;s businesses.&nbsp\; Attendees are encouraged to bring business cards and marketing brochures. You are welcome to bring an item for the raffle drawing at the end of the event.</span></strong><br />\n&nbsp\;
LOCATION:In COUNTRY Financial 10851 S. Crossroads Dr. Suite C7 Parker\, CO 80138
UID:e.2085.5897
SEQUENCE:3
DTSTAMP:20260419T143853Z
URL:https://business.parkerchamber.com/events/details/women-s-forum-alzheimers-association-5897
END:VEVENT

END:VCALENDAR
